BEGIN:VCALENDAR
VERSION:2.0
PRODID:icalendar-ruby
CALSCALE:GREGORIAN
METHOD:PUBLISH
BEGIN:VEVENT
DTSTAMP:20260423T164246Z
UID:5-732545@kingdomlife.us
DTSTART:20260906T150000Z
DTEND:20260906T160000Z
CLASS:PUBLIC
CREATED:20260423T095429
DESCRIPTION:Sunday Worship
LAST-MODIFIED:20260423T095429
LOCATION:
SUMMARY:Sunday Worship
URL;VALUE=URI:https://www.kingdomlife.us/events/sunday-worship/2026-09-06
END:VEVENT
END:VCALENDAR
